BEGIN:VCALENDAR
VERSION:2.0
PRODID:-//RIGHTHERE//CALENDARIZE IT V3.2//EN
BEGIN:VTIMEZONE
TZID:Europe/Athens
X-MICROSOFT-CDO-TZID:7
BEGIN:STANDARD
DTSTART:20251026T010000
TZOFFSETFROM:+0300
TZOFFSETTO:+0200
TZNAME:EET
END:STANDARD
BEGIN:DAYLIGHT
DTSTART:20260329T010000
TZOFFSETFROM:+0200
TZOFFSETTO:+0300
TZNAME:EEST
END:DAYLIGHT
BEGIN:STANDARD
DTSTART:20261025T010000
TZOFFSETFROM:+0300
TZOFFSETTO:+0200
TZNAME:EET
END:STANDARD
END:VTIMEZONE
BEGIN:VEVENT
UID:20552-events@www.ekdd.gr
DTSTART;TZID=Europe/Athens:20230411T103000
DTEND;TZID=Europe/Athens:20230411T144500
DTSTAMP;TZID=Europe/Athens:20230406T141853
SUMMARY:ΗΜΕΡΙΔΑ ΚΟΙΝΩΝΙΚΗ ΠΟΛΙΤΙΚΗ – ΕΚΔΔΑ: 
 Η Επιμόρφωση στην Υπηρεσία των Πολιτών
URL:https://www.ekdd.gr/event/%ce%b7%ce%bc%ce%b5%cf%81%ce%b9%ce%b4%ce%b1-%c
 e%ba%ce%bf%ce%b9%ce%bd%cf%89%ce%bd%ce%b9%ce%ba%ce%b7-%cf%80%ce%bf%ce%bb%ce
  %b9%cf%84%ce%b9%ce%ba%ce%b7-%ce%b5%ce%ba%ce%b4%ce%b4%ce%b1-%ce%b7/
ORGANIZER;CN=ΕΚΔΔΑ:MAILTO:ekdd@ekdd.gr
LOCATION:Ίδρυμα Μιχάλης Κακογιάννης\, Πειραι
 ς 206\, Ταύρος
END:VEVENT
END:VCALENDAR