BEGIN:VCALENDAR
VERSION:2.0
PRODID:-//RIGHTHERE//CALENDARIZE IT V3.2//EN
BEGIN:VTIMEZONE
TZID:Europe/Athens
X-MICROSOFT-CDO-TZID:7
BEGIN:STANDARD
DTSTART:20251026T010000
TZOFFSETFROM:+0300
TZOFFSETTO:+0200
TZNAME:EET
END:STANDARD
BEGIN:DAYLIGHT
DTSTART:20260329T010000
TZOFFSETFROM:+0200
TZOFFSETTO:+0300
TZNAME:EEST
END:DAYLIGHT
BEGIN:STANDARD
DTSTART:20261025T010000
TZOFFSETFROM:+0300
TZOFFSETTO:+0200
TZNAME:EET
END:STANDARD
END:VTIMEZONE
BEGIN:VEVENT
UID:13523-events@www.ekdd.gr
DTSTART;TZID=Europe/Athens:20191218T090000
DTEND;TZID=Europe/Athens:20191218T160000
DTSTAMP;TZID=Europe/Athens:20191209T112922
SUMMARY:Ημερίδα ΕΚΔΔΑ: Η Τεχνητή Νοημοσύνη σ
 η Διακυβέρνηση: Οφέλη και Προκλήσεις γι
   τη Δημόσια Διοίκηση στις 18/12/2019
DESCRIPTION:Τα αποσπάσματα είναι προαιρετικό.
EXDATE:20191104T060000Z
URL:https://www.ekdd.gr/event/%ce%b7%ce%bc%ce%b5%cf%81%ce%af%ce%b4%ce%b1-%c
 e%b5%ce%ba%ce%b4%ce%b4%ce%b1-%ce%b7-%cf%84%ce%b5%cf%87%ce%bd%ce%b7%cf%84%c
  e%ae-%ce%bd%ce%bf%ce%b7%ce%bc%ce%bf%cf%83%cf%8d%ce%bd%ce%b7-%cf%83%cf%84%
   ce%b7/
ORGANIZER;CN=ΕΚΔΔΑ:MAILTO:ekdd@ekdd.gr
LOCATION:Πειραιώς 211\, Ταύρος Αττικής 177 78
END:VEVENT
END:VCALENDAR