BEGIN:VCALENDAR
VERSION:2.0
PRODID:-//RIGHTHERE//CALENDARIZE IT V3.2//EN
BEGIN:VTIMEZONE
TZID:Europe/Athens
X-MICROSOFT-CDO-TZID:7
BEGIN:STANDARD
DTSTART:20251026T010000
TZOFFSETFROM:+0300
TZOFFSETTO:+0200
TZNAME:EET
END:STANDARD
BEGIN:DAYLIGHT
DTSTART:20260329T010000
TZOFFSETFROM:+0200
TZOFFSETTO:+0300
TZNAME:EEST
END:DAYLIGHT
BEGIN:STANDARD
DTSTART:20261025T010000
TZOFFSETFROM:+0300
TZOFFSETTO:+0200
TZNAME:EET
END:STANDARD
END:VTIMEZONE
BEGIN:VEVENT
UID:12114-events@www.ekdd.gr
DTSTART;TZID=Europe/Athens:20191104T090000
DTEND;TZID=Europe/Athens:20191104T140000
DTSTAMP;TZID=Europe/Athens:20191004T114629
SUMMARY:ΙΝΕΠ/ΕΚΔΔΑ: Ημερίδα για την «Διαχείρ
 ση Κινδύνου Κυβερνοαπειλών: Ανίχνευση\, 
  Ανάσχεση και Κοινοποίηση Συμβάντων Ασφ
   λείας»
DESCRIPTION:Τα αποσπάσματα είναι προαιρετικό.
URL:https://www.ekdd.gr/event/%ce%b9%ce%bd%ce%b5%cf%80-%ce%b5%ce%ba%ce%b4%c
 e%b4%ce%b1-%ce%b7%ce%bc%ce%b5%cf%81%ce%af%ce%b4%ce%b1-%ce%b3%ce%b9%ce%b1-%
  cf%84%ce%b7%ce%bd-%ce%b4%ce%b9%ce%b1%cf%87%ce%b5%ce%af%cf%81%ce%b9%cf%83%
   ce%b7/
ORGANIZER;CN=ΕΚΔΔΑ:MAILTO:ekdd@ekdd.gr
LOCATION:Πειραιώς 211\, Ταύρος Αττικής 177 78
END:VEVENT
END:VCALENDAR