BEGIN:VCALENDAR
VERSION:2.0
PRODID:-//RIGHTHERE//CALENDARIZE IT V3.2//EN
BEGIN:VTIMEZONE
TZID:Europe/Athens
X-MICROSOFT-CDO-TZID:7
BEGIN:STANDARD
DTSTART:20251026T010000
TZOFFSETFROM:+0300
TZOFFSETTO:+0200
TZNAME:EET
END:STANDARD
BEGIN:DAYLIGHT
DTSTART:20260329T010000
TZOFFSETFROM:+0200
TZOFFSETTO:+0300
TZNAME:EEST
END:DAYLIGHT
BEGIN:STANDARD
DTSTART:20261025T010000
TZOFFSETFROM:+0300
TZOFFSETTO:+0200
TZNAME:EET
END:STANDARD
END:VTIMEZONE
BEGIN:VEVENT
UID:11648-events@www.ekdd.gr
DTSTART;VALUE=DATE:20190612
DTEND;VALUE=DATE:20190612
DTSTAMP;TZID=Europe/Athens:20190722T072234
SUMMARY:Εκπαιδευτικό σεμινάριο ΕΣΔΔΑ – Jean MON
 NET Network
DESCRIPTION:Τα αποσπάσματα είναι προαιρετικό.
URL:https://www.ekdd.gr/event/%ce%b5%ce%ba%cf%80%ce%b1%ce%b9%ce%b4%ce%b5%cf
 %85%cf%84%ce%b9%ce%ba%cf%8c-%cf%83%ce%b5%ce%bc%ce%b9%ce%bd%ce%ac%cf%81%ce%
  b9%ce%bf-%ce%b5%cf%83%ce%b4%ce%b4%ce%b1-jean-monnet-network/
ORGANIZER;CN=ΕΚΔΔΑ:MAILTO:ekdd@ekdd.gr
LOCATION:Πειραιώς 211\, Ταύρος Αττικής 177 78
END:VEVENT
END:VCALENDAR