BEGIN:VCALENDAR
VERSION:2.0
PRODID:-//RIGHTHERE//CALENDARIZE IT V3.2//EN
BEGIN:VTIMEZONE
TZID:Europe/Athens
X-MICROSOFT-CDO-TZID:7
BEGIN:STANDARD
DTSTART:20251026T010000
TZOFFSETFROM:+0300
TZOFFSETTO:+0200
TZNAME:EET
END:STANDARD
BEGIN:DAYLIGHT
DTSTART:20260329T010000
TZOFFSETFROM:+0200
TZOFFSETTO:+0300
TZNAME:EEST
END:DAYLIGHT
BEGIN:STANDARD
DTSTART:20261025T010000
TZOFFSETFROM:+0300
TZOFFSETTO:+0200
TZNAME:EET
END:STANDARD
END:VTIMEZONE
BEGIN:VEVENT
UID:11644-events@www.ekdd.gr
DTSTART;VALUE=DATE:20190614
DTEND;VALUE=DATE:20190614
DTSTAMP;TZID=Europe/Athens:20190719T140240
SUMMARY:ΙΝΕΠ/ΕΚΔΔΑ: Ημερίδα για τις «Δημόσιε
  Συμβάσεις Καινοτομίας»
DESCRIPTION:Τα αποσπάσματα είναι προαιρετικό.
URL:https://www.ekdd.gr/event/%ce%b9%ce%bd%ce%b5%cf%80-%ce%b5%ce%ba%ce%b4%c
 e%b4%ce%b1-%ce%b7%ce%bc%ce%b5%cf%81%ce%af%ce%b4%ce%b1-%ce%b3%ce%b9%ce%b1-%
  cf%84%ce%b9%cf%82-%ce%b4%ce%b7%ce%bc%cf%8c%cf%83%ce%b9%ce%b5%cf%82-%cf%83
   /
ORGANIZER;CN=ΕΚΔΔΑ:MAILTO:ekdd@ekdd.gr
LOCATION:Πειραιώς 211\, Ταύρος Αττικής 177 78
END:VEVENT
END:VCALENDAR